BEGIN:VCALENDAR
VERSION:2.0
PRODID:-//Salt Lake DevOps - ECPv6.10.1.1//NONSGML v1.0//EN
CALSCALE:GREGORIAN
METHOD:PUBLISH
X-ORIGINAL-URL:https://slcdevopsdays.org
X-WR-CALDESC:Events for Salt Lake DevOps
REFRESH-INTERVAL;VALUE=DURATION:PT1H
X-Robots-Tag:noindex
X-PUBLISHED-TTL:PT1H
BEGIN:VTIMEZONE
TZID:-07:00
END:VTIMEZONE
BEGIN:VEVENT
DTSTART;TZID=-07:00:20240110T180000
DTEND;TZID=-07:00:20240110T190000
DTSTAMP:20260423T152719
CREATED:20230111T023453Z
LAST-MODIFIED:20231212T124605Z
UID:538-1704909600-1704913200@slcdevopsdays.org
SUMMARY:DevOps Tooling TBD
DESCRIPTION:DevOps Tooling TBD
URL:https://slcdevopsdays.org/event/devops-tooling-tbd-13/
LOCATION:Online event
ATTACH;FMTTYPE=image/jpeg:https://slcdevopsdays.org/wp-content/uploads/2022/11/1024x576-a3qLNg.tmp_.jpg
END:VEVENT
BEGIN:VEVENT
DTSTART;TZID=-07:00:20240110T190000
DTEND;TZID=-07:00:20240110T200000
DTSTAMP:20260423T152719
CREATED:20231213T160227Z
LAST-MODIFIED:20240107T171155Z
UID:3372-1704913200-1704916800@slcdevopsdays.org
SUMMARY:Unlock the Power of Serverless Computing with Cloud Functions
DESCRIPTION:Serverless computing is transforming application development and deployment. Imagine concentrating only on your code and doing away with cumbersome server management. \nServerless programming allows you to create functions that are triggered by events such as HTTP requests or database updates\, and the server platform takes care of the rest. You can easily scale your application based on demand and write code in well-known languages like Python or Node.js using platforms like Google Cloud Functions\, all while only paying for the resources you use. This results in increased agility\, reduced costs\, and quicker development times. \nThus\, release your code from server constraints and welcome the serverless future; it’s the ideal starting point for creating cutting-edge\, cloud-based event-driven applications.
URL:https://slcdevopsdays.org/event/devops-tooling-tbd-29/
LOCATION:Online event
ATTACH;FMTTYPE=image/jpeg:https://slcdevopsdays.org/wp-content/uploads/2022/11/1024x576-a3qLNg.tmp_.jpg
END:VEVENT
END:VCALENDAR